BEGIN:VCALENDAR
VERSION:2.0
PRODID:icalendar-ruby
CALSCALE:GREGORIAN
METHOD:PUBLISH
BEGIN:VEVENT
DTSTAMP:20260422T124538Z
UID:32-1134610@urbanlightmuncie.com
DTSTART:20261102T233000Z
DTEND:20261103T003000Z
CLASS:PUBLIC
CREATED:20260422T081042
DESCRIPTION:Impact Discipleship
LAST-MODIFIED:20260422T081042
LOCATION:
SUMMARY:Impact Discipleship
URL;VALUE=URI:https://www.urbanlightmuncie.com/events/impact-discipleship--
 32/2026-11-02
END:VEVENT
END:VCALENDAR
