BEGIN:VCALENDAR
VERSION:2.0
PRODID:icalendar-ruby
CALSCALE:GREGORIAN
METHOD:PUBLISH
BEGIN:VEVENT
DTSTAMP:20260422T021801Z
UID:32-1133593@urbanlightmuncie.com
DTSTART:20260921T223000Z
DTEND:20260921T233000Z
CLASS:PUBLIC
CREATED:20260421T210527
DESCRIPTION:Impact Discipleship
LAST-MODIFIED:20260421T210527
LOCATION:
SUMMARY:Impact Discipleship
URL;VALUE=URI:https://www.urbanlightmuncie.com/events/impact-discipleship--
 32/2026-09-21
END:VEVENT
END:VCALENDAR
