BEGIN:VCALENDAR
VERSION:2.0
PRODID:icalendar-ruby
CALSCALE:GREGORIAN
METHOD:PUBLISH
BEGIN:VEVENT
DTSTAMP:20260422T003825Z
UID:32-1132581@urbanlightmuncie.com
DTSTART:20260914T223000Z
DTEND:20260914T233000Z
CLASS:PUBLIC
CREATED:20260421T182639
DESCRIPTION:Impact Discipleship
LAST-MODIFIED:20260421T182639
LOCATION:
SUMMARY:Impact Discipleship
URL;VALUE=URI:https://www.urbanlightmuncie.com/events/impact-discipleship--
 32/2026-09-14
END:VEVENT
END:VCALENDAR
